Workbook

Sheet Index
A9: 1 | B9: Profit & Loss Statement
A10: 2 | B10: Balance Sheet
A11: 3 | B11: Operational Data
A12: 4 | B12: Credit Quality
A13: 5 | B13: Yields, Margins & Ratios
A14: 6 | B14: Liabilities
B17: For any queries on the financials & investor related information of the Company, email us at investorrelations@indiashelter.in

Sheet P&L
A1: Index
B3: Particulars | C3: Q3FY23 | D3: Q4FY23 | E3: Q1FY24 | F3: Q2FY24 | G3: Q3FY24 | H3: Q4FY24 | I3: Q1FY25 | J3: Q2FY25 | K3: Q3FY25 | L3: Q4FY25 | M3: Q1FY26 | N3: Q2FY26 | P3: FY21 | Q3: FY22 | R3: FY23 | S3: FY24 | T3: FY25 | V3: H1FY25 | W3: H1FY26
B4: Interest Income on loans | C4: 125.88433 | D4: 131.64973 | E4: 141.70217 | F4: 159.33107 | G4: 169.27259 | H4: 190.26924 | I4: 200.64694 | J4: 215.96301 | K4: 233.91042 | L4: 256.74949 | M4: 274.28419 | N4: 286.44796 | P4: 257.69875 | Q4: 353.2346 | R4: 476.66047 | S4: 660.57507 | T4: 907.26986 | V4: 416.60995 | W4: 560.73215
B5: Net gain on direct assignments | C5: 7.6827382 | D5: 20.941749 | E5: 18.781805 | F5: 23.523795 | G5: 19.886896 | H5: 16.955079 | I5: 24.9353 | J5: 27.138014 | K5: 27.223174 | L5: 18.758952 | M5: 35.601029 | N5: 34.643182 | P5: 29.222866 | Q5: 49.714649 | R5: 43.907643 | S5: 79.147576 | T5: 98.05544 | V5: 52.073314 | W5: 70.244211
B6: Income from Liquid Investments (Treasury) | C6: 9.5849842 | D6: 8.5800252 | E6: 13.264226 | F6: 11.489287 | G6: 10.280991 | H6: 17.077555 | I6: 11.273193 | J6: 11.577023 | K6: 9.6591927 | L6: 13.265299 | M6: 13.459811 | N6: 12.922002 | P6: 19.790895 | Q6: 24.969998 | R6: 32.377521 | S6: 52.112059 | T6: 45.774708 | V6: 22.850217 | W6: 26.381813
B7: Other income | C7: 12.974899 | D7: 16.046462 | E7: 14.273989 | F7: 16.209875 | G7: 18.940554 | H7: 20.115153 | I7: 23.861518 | J7: 28.725018 | K7: 33.6008 | L7: 38.642216 | M7: 37.965621 | N7: 35.225167 | P7: 16.084742 | Q7: 31.885773 | R7: 53.285103 | S7: 69.53957 | T7: 124.82955 | V7: 52.586537 | W7: 73.190788
B8: Fees income | C8: 7.0489307 | D8: 8.50657 | E8: 8.2698292 | F8: 9.6288345 | G8: 9.4312896 | H8: 10.459493 | I8: 14.689081 | J8: 14.769295 | K8: 16.345065 | L8: 18.416698 | M8: 18.308836 | N8: 20.016415 | P8: 9.9925898 | Q8: 20.057797 | R8: 31.584115 | S8: 37.789446 | T8: 64.220139 | V8: 29.458376 | W8: 38.325251
B9: Others | C9: 5.925968 | D9: 7.539892 | E9: 6.00416 | F9: 6.58104 | G9: 9.509264 | H9: 9.6556598 | I9: 9.1724379 | J9: 13.955723 | K9: 17.255735 | L9: 20.225518 | M9: 19.656785 | N9: 15.208752 | P9: 6.0921527 | Q9: 11.827977 | R9: 21.700988 | S9: 31.750124 | T9: 60.609414 | V9: 23.128161 | W9: 34.865537
B10: Total Income | C10: 156.12695 | D10: 177.21796 | E10: 188.02219 | F10: 210.55403 | G10: 218.38103 | H10: 244.41702 | I10: 260.71695 | J10: 283.40306 | K10: 304.39359 | L10: 327.41596 | M10: 361.31065 | N10: 369.23831 | P10: 322.79725 | Q10: 459.80502 | R10: 606.23074 | S10: 861.37427 | T10: 1175.9296 | V10: 544.12002 | W10: 730.54896
B11: Finance Cost | C11: 57.641993 | D11: 55.492644 | E11: 67.903909 | F11: 71.190859 | G11: 73.640694 | H11: 74.246639 | I11: 76.258776 | J11: 84.246986 | K11: 91.669315 | L11: 101.27324 | M11: 106.17521 | N11: 109.36384 | P11: 104.57471 | Q11: 147.41925 | R11: 208.67721 | S11: 286.9821 | T11: 353.44832 | V11: 160.50576 | W11: 215.53905
B12: Net Total Income | C12: 98.484962 | D12: 121.72532 | E12: 120.11828 | F12: 139.36317 | G12: 144.74033 | H12: 170.17039 | I12: 184.45818 | J12: 199.15607 | K12: 212.72427 | L12: 226.14272 | M12: 255.13543 | N12: 259.87447 | P12: 218.22255 | Q12: 312.38577 | R12: 397.55353 | S12: 574.39217 | T12: 822.48125 | V12: 383.61425 | W12: 515.00991
B13: Operating Expense | C13: 45.554902 | D13: 48.79804 | E13: 55.036511 | F13: 56.677238 | G13: 59.463733 | H13: 64.856133 | I13: 69.747783 | J13: 74.185717 | K13: 79.4987 | L13: 83.429763 | M13: 89.651718 | N13: 92.272185 | P13: 85.373142 | Q13: 133.47304 | R13: 181.53455 | S13: 236.03361 | T13: 306.86196 | V13: 143.9335 | W13: 181.9239
B14: Payroll Cost | C14: 34.199496 | D14: 36.242092 | E14: 41.434081 | F14: 42.983719 | G14: 45.738862 | H14: 49.272077 | I14: 52.902626 | J14: 54.561 | K14: 60.045206 | L14: 61.575625 | M14: 69.374022 | N14: 68.676138 | P14: 61.963858 | Q14: 101.30888 | R14: 134.56041 | S14: 179.42874 | T14: 229.08446 | V14: 107.46363 | W14: 138.05016
B15: Admin Cost | C15: 11.355406 | D15: 12.555948 | E15: 13.602429 | F15: 13.69352 | G15: 13.724871 | H15: 15.584056 | I15: 16.845158 | J15: 19.624716 | K15: 19.453494 | L15: 21.854138 | M15: 20.277696 | N15: 23.596047 | P15: 23.409284 | Q15: 32.164165 | R15: 46.974142 | S15: 56.604876 | T15: 77.777507 | V15: 36.469874 | W15: 43.873743
... B22: Diluted EPS | C22: 4.47 | D22: 5.97 | E22: 5.3 | F22: 6.66 | G22: 6.35 | H22: 7 | I22: 7.5 | J22: 8.09 | K22: 8.64 | L22: 9.6736146 | M22: 10.67595 | N22: 10.92 | P22: 9.93 | Q22: 14.63 | R22: 17.43 | S22: 25.18 | T22: 33.929469 | V22: 15.6 | W22: 21.63

Sheet BS
A1: Index
B3: Balance Sheet (Rs. Crs) | C3: Dec'22 | D3: Mar'23 | E3: June'23 | F3: Sep'23 | G3: Dec'23 | H3: Mar'24 | I3: June'24 | J3: Sep'24 | K3: Dec'24 | L3: Mar'25 | M3: June'25 | N3: Sep'25 | P3: FY19 | Q3: FY20 | R3: FY21 | S3: FY22 | T3: FY23 | U3: FY24 | V3: FY25
B4: Sources of Funds
B5: Share Capital | C5: 43.764652 | D5: 43.764652 | E5: 43.828262 | F5: 45.023 | G5: 53.525568 | H5: 53.525568 | I5: 53.608397 | J5: 53.701404 | K5: 53.860795 | L5: 53.947644 | M5: 53.967209 | N5: 54.178411 | P5: 42.404487 | Q5: 42.830155 | R5: 42.978405 | S5: 43.706655 | T5: 43.764652 | U5: 53.525568 | V5: 53.947644
B6: Reserves & Surplus | C6: 1140.7471 | D6: 1196.7629 | E6: 1243.3586 | F6: 1329.943 | G6: 2155.3159 | H6: 2245.1401 | I6: 2333.2932 | J6: 2434.885 | K6: 2540.8419 | L6: 2654.7875 | M6: 2782.4624 | N6: 2861.0918 | P6: 757.14133 | Q6: 805.45347 | R6: 894.29101 | S6: 1032.4195 | T6: 1196.7629 | U6: 2245.1401 | V6: 2654.7875
B7: Borrowings | C7: 2669.7367 | D7: 2988.869 | E7: 3319.5544 | F7: 3288.4814 | G7: 3512.7061 | H7: 3415.0987 | I7: 3690.248 | J7: 4010.8556 | K7: 4549.7679 | L7: 4969.0571 | M7: 5215.2104 | N7: 5492.2368 | P7: 513.21236 | Q7: 934.6036 | R7: 1491.2904 | S7: 2070.0097 | T7: 2988.869 | U7: 3415.0987 | V7: 4969.0571
B8: Other liabilities & provisions | C8: 132.84084 | D8: 66.193632 | E8: 88.137104 | F8: 95.231414 | G8: 86.71159 | H8: 80.418087 | I8: 89.388232 | J8: 100.63761 | K8: 122.79386 | L8: 69.707722 | M8: 134.95794 | N8: 172.82605 | P8: 21.996122 | Q8: 16.104111 | R8: 34.079967 | S8: 75.084884 | T8: 66.194632 | U8: 80.418087 | V8: 69.707722
B9: Total | C9: 3987.0893 | D9: 4295.5902 | E9: 4694.8784 | F9: 4758.6789 | G9: 5808.2591 | H9: 5794.1825 | I9: 6166.5378 | J9: 6600.0796 | K9: 7267.2645 | L9: 7747.4999 | M9: 8186.5979 | N9: 8580.3331 | P9: 1334.7543 | Q9: 1798.9913 | R9: 2462.6398 | S9: 3221.2208 | T9: 4295.5912 | U9: 5794.1825 | V9: 7747.4999
B11: Application of Funds
B12: Loan Assets | C12: 3368.4085 | D12: 3609.1441 | E12: 3932.5074 | F12: 4266.0722 | G12: 4621.9587 | H12: 5062.3957 | I12: 5405.3272 | J12: 5856.9286 | K12: 6350.3258 | L12: 6859.4855 | M12: 7208.4847 | N12: 7633.9894 | P12: 1140.6256 | Q12: 1475.1519 | R12: 1981.1697 | S12: 2622.5245 | T12: 3609.1441 | U12: 5062.3957 | V12: 6859.4855
B13: Investments | C13: 284.18465 | D13: 46.927733 | E13: 336.97692 | F13: 99.600168 | G13: 206.97044 | H13: 157.79699 | I13: 353.61023 | J13: 323.07453 | K13: 361.71694 | L13: 315.27241 | M13: 486.74041 | N13: 467.68903 | P13: 79.768884 | Q13: 93.858809 | R13: 0 | S13: 175.32003 | T13: 46.927733 | U13: 157.79699 | V13: 315.27241
B14: Fixed Assets | C14: 23.869995 | D14: 24.318527 | E14: 22.802525 | F14: 25.281085 | G14: 28.889616 | H14: 29.812892 | I14: 28.613941 | J14: 30.037561 | K14: 30.262608 | L14: 29.36238 | M14: 27.923107 | N14: 30.965893 | P14: 6.6288996 | Q14: 17.847171 | R14: 15.108599 | S14: 17.038402 | T14: 24.318527 | U14: 29.812892 | V14: 29.36238
B15: Liquid Assets | C15: 200.3832 | D15: 507.27787 | E15: 275.66285 | F15: 210.12543 | G15: 777.89295 | H15: 377.70461 | I15: 207.73158 | J15: 197.38207 | K15: 315.78543 | L15: 343.38642 | M15: 240.23581 | N15: 194.30784 | P15: 80.103806 | Q15: 182.47796 | R15: 413.67673 | S15: 330.2936 | T15: 507.27787 | U15: 377.70461 | V15: 343.38642
B16: Other Assets | C16: 110.24311 | D16: 107.92243 | E16: 126.92868 | F16: 157.59905 | G16: 172.54748 | H16: 166.47228 | I16: 171.2549 | J16: 192.65681 | K16: 209.17366 | L16: 199.99324 | M16: 223.21393 | N16: 253.38094 | P16: 27.627054 | Q16: 29.655448 | R16: 52.685441 | S16: 76.044935 | T16: 107.92243 | U16: 166.47228 | V16: 199.99324
B17: Total | C17: 3987.0894 | D17: 4295.5907 | E17: 4694.8784 | F17: 4758.678 | G17: 5808.2592 | H17: 5794.1825 | I17: 6166.5378 | J17: 6600.0796 | K17: 7267.2645 | L17: 7747.4999 | M17: 8186.5979 | N17: 8580.3331 | P17: 1334.7543 | Q17: 1798.9913 | R17: 2462.6405 | S17: 3221.2215 | T17: 4295.5907 | U17: 5794.1825 | V17: 7747.4999
B19: Reconciliation of AUM to Loan Assets
B20: AUM | C20: 3953.5607 | D20: 4359.4307 | E20: 4759.0243 | F20: 5180.6891 | G20: 5609.4858 | H20: 6084.0345 | I20: 6509.0605 | J20: 7039.0567 | K20: 7618.5701 | L20: 8189.2279 | M20: 8712.4608 | N20: 9251.602 | P20: 1178.0345 | Q20: 1519.7889 | R20: 2198.5274 | S20: 3073.2931 | T20: 4359.4307 | U20: 6084.0345 | V20: 8189.2279
B21: (-) Direct Assignment | C21: -528.32887 | D21: -692.73539 | E21: -764.37073 | F21: -847.58514 | G21: -910.39698 | H21: -948.50369 | I21: -1023.1857 | J21: -1095.2376 | K21: -1172.8989 | L21: -1226.4032 | M21: -1395.5008 | N21: -1501.1844 | P21: 0 | Q21: 0 | R21: -158.27044 | S21: -382.24784 | T21: -692.73539 | U21: -948.50369 | V21: -1226.4032
B22: (-) Securitised Assets | C22: 0 | D22: 0 | E22: 0 | F22: 0 | G22: 0 | H22: 0 | I22: 0 | J22: 0 | K22: 0 | L22: 0 | M22: 0 | N22: 0 | P22: -11.13238 | Q22: -8.6 | R22: -6.673 | S22: -2.844 | T22: 0 | U22: 0 | V22: 0
B23: (+) Accrued Interest | C23: 37.381963 | D23: 36.923465 | E23: 40.134938 | F23: 42.698181 | G23: 44.643142 | H23: 51.206116 | I23: 55.09 | J23: 60.301938 | K23: 65.8939 | L23: 70.76858 | M23: 76.645671 | N23: 81.463115 | P23: 9.76 | Q23: 6.7741 | R23: 10.536998 | S23: 8.3881991 | T23: 36.923465 | U23: 51.206116 | V23: 70.76858
B24: Gross Carrying Amount | C24: 3462.6138 | D24: 3703.6188 | E24: 4034.7886 | F24: 4375.8021 | G24: 4743.732 | H24: 5186.7369 | I24: 5540.9648 | J24: 6004.121 | K24: 6511.565 | L24: 7033.5932 | M24: 7393.6056 | N24: 7831.8807 | P24: 1176.6621 | Q24: 1517.963 | R24: 2044.121 | S24: 2696.5894 | T24: 3703.6188 | U24: 5186.7369 | V24: 7033.5932
B25: (-) Ammortised processing fees (EIR under IND AS) | C25: -52.791616 | D25: -58.99 | E25: -62.569631 | F25: -67.985667 | G25: -76.084982 | H25: -80.247189 | I25: -85 | J25: -91.217648 | K25: -100.48808 | L25: -109.81937 | M25: -117.6065 | N25: -125.11071 | P25: -27.633778 | Q25: -26.615 | R25: -31.948376 | S25: -39.716281 | T25: -58.99 | U25: -80.247189 | V25: -109.81937
B26: (-) ECL Provision | C26: -41.413761 | D26: -35.484642 | E26: -39.711491 | F26: -41.744233 | G26: -45.688305 | H26: -44.094021 | I26: -50.6421 | J26: -55.974786 | K26: -60.751228 | L26: -64.288381 | M26: -67.514488 | N26: -72.780599 | P26: -8.4072805 | Q26: -16.192543 | R26: -31.00325 | S26: -34.348235 | T26: -35.484642 | U26: -44.094021 | V26: -64.288381
B27: Loans Assets | C27: 3368.4085 | D27: 3609.1441 | E27: 3932.5074 | F27: 4266.0722 | G27: 4621.9587 | H27: 5062.3957 | I27: 5405.3227 | J27: 5856.9286 | K27: 6350.3257 | L27: 6859.4855 | M27: 7208.4847 | N27: 7633.9894 | P27: 1140.621 | Q27: 1475.1555 | R27: 1981.1694 | S27: 2622.5249 | T27: 3609.1441 | U27: 5062.3957 | V27: 6859.4855

Sheet Operational
A1: Index
B3: Particulars | C3: Q3FY23 | D3: Q4FY23 | E3: Q1FY24 | F3: Q2FY24 | G3: Q3FY24 | H3: Q4FY24 | I3: Q1FY25 | J3: Q2FY25 | K3: Q3FY25 | L3: Q4FY25 | M3: Q1FY26 | N3: Q2FY26 | P3: FY21 | Q3: FY22 | R3: FY23 | S3: FY24 | T3: FY25
B4: AUM | C4: 3953.5607 | D4: 4359.4307 | E4: 4759.0243 | F4: 5180.6891 | G4: 5609.4858 | H4: 6084 | I4: 6509.0605 | J4: 7039.0567 | K4: 7618.5701 | L4: 8189.2279 | M4: 8712.4608 | N4: 9251.602 | P4: =21985.27/10 -> 2198.527 | Q4: =30732.93/10 -> 3073.293 | R4: =43594.31/10 -> 4359.431 | S4: =H4 -> 6084 | T4: 8189.2279
B5: Direct Assignement Portfolio (Bank Share) | C5: 528.32887 | D5: 692.73539 | E5: 764.37073 | F5: 847.58514 | G5: 910.39698 | H5: 948.50369 | I5: 1023.1838 | J5: 1095.2376 | K5: 1172.8989 | L5: 1226.4028 | M5: 1395.5008 | N5: 1501.1852 | P5: =1582.7/10 -> 158.27 | Q5: =3822.48/10 -> 382.248 | R5: 692.73539 | S5: =H5 -> 948.50369 | T5: 1226.4028
B6: Co-Lending Portfolio (Bank Share) | C6: 0 | D6: 0.59 | E6: 8.7192322 | F6: 29.874767 | G6: 81.876692 | H6: 143.38261 | I6: 191.22727 | J6: 239.22 | K6: 269.87444 | L6: 345.42343 | M6: 407.29662 | N6: 476.40379 | P6: 0 | Q6: 0 | R6: 0.59 | S6: 143 | T6: 345.42343
B7: Gross Managed Assets (AUM + Co Lending) | C7: =C4+C6 -> 3953.5607 | D7: =D4+D6 -> 4360.0207 | E7: =E4+E6 -> 4767.7436 | F7: =F4+F6 -> 5210.5639 | G7: =G4+G6 -> 5691.3625 | H7: =H4+H6 -> 6227.3826 | I7: =I4+I6 -> 6700.2878 | J7: =J4+J6 -> 7278.2767 | ... N7: =N4+N6 -> 9728.0058 | P7: =P4+P6 -> 2198.527 | Q7: =Q4+Q6 -> 3073.293 | R7: =R4+R6 -> 4360.021 | S7: =S4+S6 -> 6227 | T7: =T4+T6 -> 8534.6513
B8: Direct Assigned Assets/ AUM | C8: =C5/C4 -> 0.13363368 | D8: =D5/D4 -> 0.15890501 | E8: =E5/E4 -> 0.16061501 | F8: =F5/F4 -> 0.16360471 | G8: =G5/G4 -> 0.16229598 | H8: =H5/H4 -> 0.15590133 | I8: =I5/I4 -> 0.15719377 | J8: =J5/J4 -> 0.15559437 | ... N8: =N5/N4 -> 0.16226219 | P8: =P5/P4 -> 0.071989109 | Q8: =Q5/Q4 -> 0.12437734 | R8: =R5/R4 -> 0.158905 | S8: =S5/S4 -> 0.15590133 | T8: =T5/T4 -> 0.14975806
B9: Direct Assignment drawn-down during the period | C9: 70.5022 | D9: 204.3533 | E9: 110.6306 | F9: 130.21 | G9: 111.42 | H9: 98 | I9: 137.35 | J9: 150.37 | K9: 154.01 | L9: 128.19 | M9: 258.9 | N9: 244.49 | P9: 169.494 | Q9: 273.268 | R9: 440.90925 | S9: 451 | T9: 569.92
B10: AUM Mix
B11: Housing | C11: 2210.7933 | D11: 2464.608 | E11: 2721.6312 | F11: 2982.1482 | G11: 3240.831 | H11: 3538.44 | I11: 3844.375 | J11: 4180.8476 | K11: 4381.5062 | L11: 4639.0626 | M11: 4957.2321 | N11: 5263.0072 | P11: =12522.81/10 -> 1252.281 | Q11: =16613.28/10 -> 1661.328 | R11: =24646.08/10 -> 2464.608 | S11: 3538.44 | T11: 4639.0626
B12: LAP | C12: 1742.7674 | D12: 1894.8227 | E12: 2037.3931 | F12: 2198.5409 | G12: 2368.6548 | H12: 2545.5944 | I12: 2664.6856 | J12: 2858.2091 | K12: 3237.0639 | L12: 3550.1652 | M12: 3755.2287 | N12: 3988.5948 | P12: =9462.46/10 -> 946.246 | Q12: =14119.65/10 -> 1411.965 | R12: =18948.23/10 -> 1894.823 | S12: 2545.5944 | T12: 3550.1652
B13: Housing % | C13: =C11/C4 -> 0.55919042 | D13: =D11/D4 -> 0.56535088 | E13: =E11/E4 -> 0.57188849 | F13: =F11/F4 -> 0.5756277 | G13: =G11/G4 -> 0.5777412 | H13: =H11/H4 -> 0.58159764 | I13: =I11/I4 -> 0.59061902 | J13: =J11/J4 -> 0.59394998 | ... N13: =N11/N4 -> 0.56887523 | P13: =P11/P4 -> 0.56960001 | Q13: =Q11/Q4 -> 0.54056935 | R13: =R11/R4 -> 0.56535085 | S13: =S11/S4 -> 0.58159764 | T13: =T11/T4 -> 0.56648352
B14: LAP % | C14: =C12/C4 -> 0.44080958 | D14: =D12/D4 -> 0.43464912 | E14: =E12/E4 -> 0.42811151 | F14: =F12/F4 -> 0.4243723 | G14: =G12/G4 -> 0.4222588 | H14: =H12/H4 -> 0.41840803 | I14: =I12/I4 -> 0.40938098 | J14: =J12/J4 -> 0.40605002 | ... N14: =N12/N4 -> 0.43112477 | P14: =P12/P4 -> 0.43039999 | Q14: =Q12/Q4 -> 0.45943065 | R14: =R12/R4 -> 0.43464915 | S14: =S12/S4 -> 0.41840803 | T14: =T12/T4 -> 0.43351648
B15: Disbursements
B16: Disbursements | C16: 499.36225 | D16: 603.12077 | E16: 582.27991 | F16: 638.03747 | G16: 679.04557 | H16: 747 | I16: 715.1 | J16: =236.04+265.48+326.6 -> 828.12 | K16: 879 | L16: 932.97439 | M16: 886.50042 | N16: 930.55356 | P16: 895 | Q16: 1295 | R16: 1964.3769 | S16: 2646 | T16: 3355.0729
B17: Co-lending | C17: 0 | D17: 1 | E17: 8 | F17: 21 | G17: 53 | H17: 63 | I17: 52 | J17: 54 | K17: 38 | L17: 85 | M17: 73 | N17: 83 | P17: 0 | Q17: 0 | R17: 1 | S17: 146 | T17: 229
B18: Customer Segment
B19: Self Employed | C19: 0.6918 | D19: 0.6965 | E19: 0.7011 | F19: 0.7061 | G19: 0.7114 | H19: 0.72 | I19: 0.7226 | J19: 0.73 | K19: 0.74 | L19: 0.75 | M19: 0.75 | N19: 0.7543 | P19: 0.642 | Q19: 0.676 | R19: 0.696 | S19: =H19 -> 0.72 | T19: 0.75
B20: Salaried | C20: 0.3082 | D20: 0.3035 | E20: 0.2989 | F20: 0.2939 | G20: 0.29 | H20: 0.28 | I20: 0.28 | J20: 0.27 | K20: 0.26 | L20: 0.25 | M20: 0.25 | N20: 0.2457 | P20: 0.358 | Q20: 0.324 | R20: 0.304 | S20: =H20 -> 0.28 | T20: 0.25
B21: Ticket Size AUM Split
B22: ≤5 Lakhs | C22: 497.52437 | D22: 517.86498 | E22: 534.38351 | F22: 551.42447 | G22: 567.60395 | H22: 556.36 | I22: 559.77921 | J22: 572.27531 | K22: 586.6299 | L22: 596.99471 | M22: =$M$4*M29 -> 602.90229 | N22: =$N$4*N29 -> 610.60573 | P22: 468.434 | Q22: 471.622 | R22: 517.865 | S22: 556.36 | T22: 596.99471
B23: >5 Lakh to 10 Lakh | C23: 1538.8104 | D23: 1711.8053 | E23: 1874.644 | F23: 2045.6183 | G23: 2236.0844 | H23: 2450.15 | I23: 2638.7731 | J23: 2887.4211 | K23: 3160.9447 | L23: 3458.3109 | M23: =$M$4*M30 -> 3708.8946 | N23: =$N$4*N30 -> 3951.3592 | P23: 839.714 | Q23: 1162.025 | R23: 1711.805 | S23: 2450.15 | T23: 3458.3109
B24: >10 to 15 Lakhs | C24: 943.15946 | D24: 1069.3345 | E24: 1188.5791 | F24: 1326.6296 | G24: 1444.8756 | H24: 1595.77 | I24: 1730.1083 | J24: 1894.2102 | K24: 2072.2511 | L24: 2214.3672 | M24: =$M$4*M31 -> 2314.0296 | N24: =$N$4*N31 -> 2422.0694 | P24: 385.381 | Q24: 651.984 | R24: 1069.334 | S24: 1595.77 | T24: 2214.3672
B25: >15 to 20 Lakhs | C25: 437.46127 | D25: 495.6239 | E25: 565.03994 | F25: 621.31086 | G25: 688.84283 | H25: 758.17 | I25: 818.18891 | J25: 884.10552 | K25: 952.32126 | L25: 1006.4561 | M25: =$M$4*M32 -> 1066.4052 | N25: =$N$4*N32 -> 1137.947 | P25: 177.276 | Q25: 310.589 | R25: 495.624 | S25: 758.17 | T25: 1006.4561
B26: >20 to 25 Lakhs | C26: 292.17174 | D26: 320.53808 | E26: 343.00251 | F26: 376.52148 | G26: 402.60694 | H26: 434.69 | I26: 462.1433 | J26: 491.32616 | K26: 523.39576 | L26: 547.85934 | M26: =$M$4*M33 -> 589.83359 | N26: =$N$4*N33 -> 621.70765 | P26: 131.323 | Q26: 232.754 | R26: 320.538 | S26: 434.69 | T26: 547.85934
B27: >25 Lakhs | C27: 244.43356 | D27: 244.26392 | E27: 253.37533 | F27: 259.18435 | G27: 269.47209 | H27: 288.84 | I27: 299.41678 | J27: 309.01459 | K27: 323.78923 | L27: 366.05849 | M27: =$M$4*M34 -> 430.39556 | N27: =$N$4*N34 -> 507.91295 | P27: 196.399 | Q27: 244.319 | R27: 244.264 | S27: 288.84 | T27: 366.05849
B28: Ticket Size AUM Split
B29: ≤5 Lakhs | C29: =C22/$C$4 -> 0.12584209 | D29: =D22/$D$4 -> 0.11879188 | E29: =E22/$E$4 -> 0.11228846 | F29: =F22/$F$4 -> 0.10643844 | G29: =G22/$G$4 -> 0.10118645 | H29: 0.091446417 | I29: 0.086 | J29: 0.0813 | K29: 0.077 | L29: 0.0729 | M29: 0.0692 | N29: 0.066 | P29: =P22/$P$4 -> 0.2130672 | Q29: =Q22/$Q$4 -> 0.1534582 | R29: =R22/$R$4 -> 0.11879188 | S29: 0.091446417 | T29: 0.0729
B30: >5 Lakh to 10 Lakh | C30: =C23/$C$4 -> 0.38922138 | D30: =D23/$D$4 -> 0.39266717 | E30: =E23/$E$4 -> 0.39391352 | F30: =F23/$F$4 -> 0.39485448 | G30: =G23/$G$4 -> 0.39862555 | H30: 0.40272025 | I30: 0.4054 | J30: 0.4102 | K30: 0.4149 | L30: 0.4223 | M30: 0.4257 | N30: 0.4271 | P30: =P23/$P$4 -> 0.38194391 | Q30: =Q23/$Q$4 -> 0.3781042 | R30: =R23/$R$4 -> 0.39266707 | S30: 0.40272025 | T30: 0.4223
B31: >10 to 15 Lakhs | C31: =C24/$C$4 -> 0.2385595 | D31: =D24/$D$4 -> 0.24529223 | E31: =E24/$E$4 -> 0.24975267 | F31: =F24/$F$4 -> 0.25607204 | G31: =G24/$G$4 -> 0.25757719 | H31: 0.26228961 | I31: 0.2658 | J31: 0.2691 | K31: 0.272 | L31: 0.2704 | M31: 0.2656 | N31: 0.2618 | P31: =P24/$P$4 -> 0.17529055 | Q31: =Q24/$Q$4 -> 0.21214508 | R31: =R24/$R$4 -> 0.2452921 | S31: 0.26228961 | T31: 0.2704
B32: >15 to 20 Lakhs | C32: =C25/$C$4 -> 0.11064994 | D32: =D25/$D$4 -> 0.11369005 | E32: =E25/$E$4 -> 0.11873021 | F32: =F25/$F$4 -> 0.11992823 | G32: =G25/$G$4 -> 0.12279964 | H32: 0.12461703 | I32: 0.1257 | J32: 0.1256 | K32: 0.125 | L32: 0.1229 | M32: 0.1224 | N32: 0.123 | P32: =P25/$P$4 -> 0.080633988 | Q32: =Q25/$Q$4 -> 0.10106065 | R32: =R25/$R$4 -> 0.11369007 | S32: 0.12461703 | T32: 0.1229
B33: >20 to 25 Lakhs | C33: =C26/$C$4 -> 0.073900911 | D33: =D26/$D$4 -> 0.073527511 | E33: =E26/$E$4 -> 0.072074123 | F33: =F26/$F$4 -> 0.072677876 | G33: =G26/$G$4 -> 0.071772522 | H33: 0.07144806 | I33: 0.071 | J33: 0.0698 | K33: 0.0687 | L33: 0.0669 | M33: 0.0677 | N33: 0.0672 | P33: =P26/$P$4 -> 0.059732266 | Q33: =Q26/$Q$4 -> 0.0757344 | R33: =R26/$R$4 -> 0.073527486 | S33: 0.07144806 | T33: 0.0669
B34: >25 Lakhs | C34: =C27/$C$4 -> 0.06182618 | D34: =D27/$D$4 -> 0.056031152 | E34: =E27/$E$4 -> 0.053241024 | F34: =F27/$F$4 -> 0.050028934 | G34: =G27/$G$4 -> 0.048038643 | H34: 0.047475345 | I34: 0.046 | J34: 0.0439 | K34: 0.0425 | L34: 0.0447 | M34: 0.0494 | N34: 0.0549 | P34: =P27/$P$4 -> 0.089332085 | Q34: =Q27/$Q$4 -> 0.079497464 | R34: =R27/$R$4 -> 0.056031166 | S34: 0.047475345 | T34: 0.0447
B35: State Wise AUM (%)
B36: Rajasthan | C36: 0.30595464 | D36: 0.3065936 | E36: 0.30925226 | F36: 0.31268752 | G36: 0.31312467 | H36: 0.312959 | I36: 0.31263797 | J36: 0.31347779 | K36: 0.31377722 | L36: 0.31370259 | M36: 0.31093736 | N36: 0.30967472 | P36: 0.33324312 | Q36: 0.31348492 | R36: 0.30659368 | S36: 0.312959 | T36: 0.31370259
B37: Maharashtra | C37: 0.18240311 | D37: 0.18009983 | E37: 0.17911581 | F37: 0.17536541 | G37: 0.17421337 | H37: 0.17445996 | I37: 0.17190585 | J37: 0.16872385 | K37: 0.16611586 | L37: 0.16323245 | M37: 0.16293033 | N37: 0.16065787 | P37: 0.18908569 | Q37: 0.18414938 | R37: 0.18009988 | S37: 0.17445996 | T37: 0.16323245
B38: Madhya Pradesh | C38: 0.14889692 | D38: 0.14695158 | E38: 0.14412192 | F38: 0.13939523 | G38: 0.13387036 | H38: 0.1284846 | I38: 0.12380774 | J38: 0.11921349 | K38: 0.11364065 | L38: 0.11015836 | M38: 0.10707237 | N38: 0.10418494 | P38: 0.16530886 | Q38: 0.15122541 | R38: 0.14695152 | S38: 0.1284846 | T38: 0.11015836
B39: Karnataka | C39: 0.066417075 | D39: 0.067387448 | E39: 0.065981695 | F39: 0.067188717 | G39: 0.067763435 | H39: 0.067921679 | I39: 0.067141817 | J39: 0.067465974 | K39: 0.06862562 | L39: 0.063291931 | M39: 0.060860866 | N39: 0.059018239 | P39: 0.047465871 | Q39: 0.062038667 | R39: 0.067387464 | S39: 0.067921679 | T39: 0.063291931
B40: Gujarat | C40: 0.068119045 | D40: 0.066931637 | E40: 0.065792903 | F40: 0.065261929 | G40: 0.064104347 | H40: 0.06246995 | I40: 0.06237923 | J40: 0.058999049 | K40: 0.058556052 | L40: 0.056644634 | M40: 0.057467121 | N40: 0.057147135 | P40: 0.09134616 | Q40: 0.07365845 | R40: 0.066931671 | S40: 0.06246995 | T40: 0.056644634
B41: Uttar Pradesh | C41: 0.056678796 | D41: 0.055834545 | E41: 0.057541945 | F41: 0.060946034 | G41: 0.062643255 | H41: 0.069237864 | I41: 0.070096127 | J41: 0.070415163 | K41: 0.071368207 | L41: 0.071635211 | M41: 0.072350676 | N41: 0.073387249 | P41: 0.061922369 | Q41: 0.059319759 | R41: 0.05583458 | S41: 0.069237864 | T41: 0.071635211
...

Sheet Credit Quality
A1: Index
B3: Particular | C3: Q3FY23 | D3: Q4FY23 | E3: Q1FY24 | F3: Q2FY24 | G3: Q3FY24 | H3: Q4FY24 | I3: Q1FY25 | J3: Q2FY25 | K3: Q3FY25 | L3: Q4FY25 | M3: Q1FY26 | N3: Q2FY26 | Q3: FY19 | R3: FY20 | S3: FY21 | T3: FY22 | U3: FY23 | V3: FY24 | W3: FY25
B4: Gross Stage 3 | C4: 79.323267 | D4: 41.896251 | E4: 40.900034 | F4: 43.926999 | G4: 57.046613 | H4: 50.128731 | I4: 63.148875 | J4: 74.659327 | K4: 81.104509 | L4: 69.403179 | M4: 91.771633 | N4: 97.805542 | Q4: 15.923551 | R4: 21.3304 | S4: 39.166592 | T4: 57.039007 | U4: 41.896251 | V4: 50.128731 | W4: 69.403179
B5: % Portfolio in Stage 3 | C5: 0.022913274 | D5: 0.011312222 | E5: 0.010136497 | F5: 0.010042025 | G5: 0.012025722 | H5: 0.0096647915 | I5: 0.011396723 | J5: 0.012434674 | K5: 0.012455436 | L5: 0.0098673859 | M5: 0.012412298 | N5: 0.012488131 | Q5: 0.013640658 | R5: 0.014080224 | S5: 0.019191245 | T5: 0.021171446 | U5: 0.011312222 | V5: 0.0096647915 | W5: 0.0098673859
B6: ECL Provision Stage 3 | C6: 18.378469 | D6: 10.888354 | E6: 10.923648 | F6: 12.62493 | G6: 14.898819 | H6: 12.464438 | I6: 15.839138 | J6: 18.5009 | K6: 20.196868 | L6: 17.099505 | M6: 22.492179 | N6: 24.047427 | Q6: 3.6145978 | R6: 6.768 | S6: 11.59835 | T6: 14.526947 | U6: 10.888354 | V6: 12.464438 | W6: 17.099505
B7: Net Stage 3 | C7: 60.944798 | D7: 31.007897 | E7: 29.976386 | F7: 31.302069 | G7: 42.147793 | H7: 37.664293 | I7: 47.309737 | J7: 56.158428 | K7: 60.907641 | L7: 52.303674 | M7: 69.279454 | N7: 73.758115 | Q7: 12.308953 | R7: 14.5624 | S7: 27.568241 | T7: 42.512059 | U7: 31.007897 | V7: 37.664293 | W7: 52.303674
B8: Provision Coverage Ration (PCR) – Stage 3 | C8: 0.23169078 | D8: 0.2598885 | E8: 0.26708164 | F8: 0.28740708 | G8: 0.26116922 | H8: 0.24864859 | I8: 0.25082217 | J8: 0.24780426 | K8: 0.24902275 | L8: 0.24637927 | M8: 0.24508858 | N8: 0.24586978 | Q8: 0.22699698 | R8: 0.31729363 | S8: 0.29612866 | T8: 0.25468444 | U8: 0.2598885 | V8: 0.24864859 | W8: 0.24637927
B10: Gross Stage 2 | C10: 70.655969 | D10: 79.246114 | E10: 103.62724 | F10: 115.63954 | G10: 124.01394 | H10: 113.95355 | I10: 148.84037 | J10: 167.10255 | K10: 182.31619 | L10: 188.91868 | M10: 253.40614 | N10: 296.58257 | Q10: 6.7855321 | R10: 21.5001 | S10: 64.587387 | T10: 86.952209 | U10: 79.246114 | V10: 113.95355 | W10: 188.91868
B11: % Portfolio in Stage 2 | C11: 0.020409644 | D11: 0.021396894 | E11: 0.025682552 | F11: 0.026436023 | G11: 0.026142783 | H11: 0.021970182 | I11: 0.026861802 | J11: 0.027831295 | K11: 0.027998784 | L11: 0.026859483 | M11: 0.034273691 | N11: 0.037868633 | Q11: 0.005812719 | R11: 0.014192243 | S11: 0.031647185 | T11: 0.032274475 | U11: 0.021396894 | V11: 0.021970182 | W11: 0.026859483
B12: ECL Provision Stage 2 | C12: 5.4345245 | D12: 5.9915941 | E12: 6.6379985 | F12: 6.6947044 | G12: 6.5155856 | H12: 4.5478408 | I12: 5.8945489 | J12: 6.3238893 | K12: 6.7650978 | L12: 7.0478617 | M12: 8.8136701 | N12: 10.087797 | Q12: 0.045563809 | R12: 0.363 | S12: 5.627009 | T12: 4.4479139 | U12: 5.9915941 | V12: 4.5478408 | W12: 7.0478617
B13: Net Stage 2 | C13: 65.221445 | D13: 73.25452 | E13: 96.989243 | F13: 108.94484 | G13: 117.49836 | H13: 109.40571 | I13: 142.94582 | J13: 160.77866 | K13: 175.55109 | L13: 181.87082 | M13: 244.59247 | N13: 286.49478 | Q13: 6.7399683 | R13: 21.1371 | S13: 58.960378 | T13: 82.504295 | U13: 73.25452 | V13: 109.40571 | W13: 181.87082
B14: Provision Coverage Ration (PCR) – Stage 2 | C14: 0.076915292 | D14: 0.075607419 | E14: 0.064056501 | F14: 0.057892866 | G14: 0.052539137 | H14: 0.039909601 | I14: 0.039603159 | J14: 0.037844361 | K14: 0.037106402 | L14: 0.037306325 | M14: 0.034780807 | N14: 0.034013452 | Q14: 0.0067148468 | R14: 0.016883642 | S14: 0.087122413 | T14: 0.051153547 | U14: 0.075607419 | V14: 0.039909601 | W14: 0.037306325
B16: Gross Stage 1 | C16: 3311.9121 | D16: 3582.4845 | E16: 3890.4004 | F16: 4214.7503 | G16: 4562.6557 | H16: 5022.6546 | I16: 5328.9784 | J16: 5762.3622 | K16: 6248.1545 | L16: 6775.2714 | M16: 7048.4275 | N16: 7437.4915 | Q16: 1144.6503 | R16: 1472.0886 | S16: 1937.1033 | T16: 2550.1567 | U16: 3582.4845 | V16: 5022.6546 | W16: 6775.2714
B17: % Portfolio in Stage 1 | C17: 0.95667708 | D17: 0.96729088 | E17: 0.96418095 | F17: 0.96352195 | G17: 0.96183149 | H17: 0.96836503 | I17: 0.96174148 | J17: 0.95973403 | K17: 0.95954578 | L17: 0.96327313 | M17: 0.95331401 | N17: 0.94964324 | Q17: 0.98054662 | R17: 0.97172753 | S17: 0.94916157 | T17: 0.94655408 | U17: 0.96729088 | V17: 0.96836503 | W17: 0.96327313
... B31: Collection Efficiency | C31: 0.99060932 | D31: 1.0122465 | E31: 0.987 | F31: 0.992 | G31: 0.991 | H31: 1.009 | I31: 0.979 | J31: 0.99 | K31: 0.99 | L31: 1 | M31: 0.98 | N31: 0.99 | Q31: 0.986 | R31: 0.98 | S31: 0.873 | T31: 0.982 | U31: 0.992 | V31: 0.995 | W31: 1

Sheet Yields & Ratios
A1: Index
C3: Q3FY23 | D3: Q4FY23 | E3: Q1FY24 | F3: Q2FY24 | G3: Q3FY24 | H3: Q4FY24 | I3: Q1FY25 | J3: Q2FY25 | K3: Q3FY25 | L3: Q4FY25 | M3: Q1FY26 | N3: Q2FY26 | P3: FY19 | Q3: FY20 | R3: FY21 | S3: FY22 | T3: FY23 | U3: FY24 | V3: FY25 | X3: H1FY25 | Y3: H1FY26
B4: Margins (as at period end)
B5: Yield | C5: 0.148 | D5: 0.147 | E5: 0.147 | F5: 0.147 | G5: 0.148 | H5: 0.149 | I5: 0.149 | J5: 0.149 | K5: 0.149 | L5: 0.149 | M5: 0.15 | N5: 0.149 | P5: 0.148 | Q5: 0.152 | R5: 0.151 | S5: 0.15 | T5: 0.147 | U5: 0.149 | V5: =L5 -> 0.149 | X5: =J5 -> 0.149 | Y5: =N5 -> 0.149
B6: CoB | C6: 0.085 | D6: 0.087 | E6: 0.087 | F6: 0.088 | G6: 0.088 | H6: 0.088 | I6: 0.088 | J6: 0.088 | K6: 0.088 | L6: 0.087 | M6: 0.086 | N6: 0.085 | P6: 0.093 | Q6: 0.099 | R6: 0.084 | S6: 0.084 | T6: 0.087 | U6: 0.088 | V6: =L6 -> 0.087 | X6: =J6 -> 0.088 | Y6: =N6 -> 0.085
B7: Spread | C7: =C5-C6 -> 0.063 | D7: =D5-D6 -> 0.06 | E7: =E5-E6 -> 0.06 | F7: =F5-F6 -> 0.059 | G7: =G5-G6 -> 0.06 | H7: =H5-H6 -> 0.061 | I7: =I5-I6 -> 0.061 | J7: =J5-J6 -> 0.061 | ... N7: =N5-N6 -> 0.064 | P7: =P5-P6 -> 0.055 | Q7: =Q5-Q6 -> 0.053 | R7: =R5-R6 -> 0.067 | S7: =S5-S6 -> 0.066 | T7: =T5-T6 -> 0.06 | U7: =U5-U6 -> 0.061 | V7: =V5-V6 -> 0.062 | X7: =J7 -> 0.061 | Y7: =N7 -> 0.064
B8: RoE Tree
B9: Net Interest Income to Average Total Asset | C9: 0.080472011 | D9: 0.08184511 | E9: 0.077470916 | F9: 0.084310704 | G9: 0.080184359 | H9: 0.091773892 | I9: 0.090737921 | J9: 0.089792332 | K9: 0.087630506 | L9: 0.089907052 | M9: 0.091159867 | N9: 0.090657555 | P9: 0.10382774 | Q9: 0.092808907 | R9: 0.081149638 | S9: 0.081207233 | T9: 0.079917064 | U9: 0.084383468 | V9: 0.088555652 | X9: 0.09002695 | Y9: 0.091028589
B10: Non Interest Income to Average Total Asset | C10: 0.013415805 | D10: 0.015498811 | E10: 0.012701441 | F10: 0.013717483 | G10: 0.014339484 | H10: 0.0138696 | I10: 0.015959921 | J10: 0.018000081 | K10: 0.01938413 | L10: 0.020588916 | M10: 0.019061322 | N10: 0.016806972 | P10: 0.0036912133 | Q10: 0.0066394819 | R10: 0.0075486308 | S10: 0.011219756 | T10: 0.01417758 | U10: 0.013784169 | V10: 0.018436343 | X10: 0.016971252 | Y10: 0.017930312
B11: DA Upfront Income to Average Total Asset | C11: 0.0079438088 | D11: 0.020227026 | E11: 0.016712636 | F11: 0.019906832 | G11: 0.01505594 | H11: 0.011690697 | I11: 0.016678126 | J11: 0.017005609 | K11: 0.01570491 | L11: 0.0099949365 | M11: 0.017874136 | N11: 0.016529289 | P11: 0 | Q11: 0 | R11: 0.013714402 | S11: 0.017493264 | T11: 0.011682517 | U11: 0.015688673 | V11: 0.014482017 | X11: 0.01680562 | Y11: 0.017208458
B12: Net Interest Margin (NIM) to Average Total Asset | C12: 0.10183162 | D12: 0.11757095 | E12: 0.10688499 | F12: 0.11793502 | G12: 0.10957978 | H12: 0.11733419 | I12: 0.12337597 | J12: 0.12479802 | K12: 0.12271955 | L12: 0.1204909 | M12: 0.12809532 | N12: 0.12399382 | P12: 0.10751895 | Q12: 0.099448389 | R12: 0.10241267 | S12: 0.10992025 | T12: 0.10577716 | U12: 0.11385631 | V12: 0.12147401 | X12: 0.12380382 | Y12: 0.12616736
B13: Operating Expenses to Average Total Assets | C13: 0.047102924 | D13: 0.047132608 | E13: 0.048973205 | F13: 0.047962681 | G13: 0.045018709 | H13: 0.044718955 | I13: 0.046651226 | J13: 0.046487313 | K13: 0.045862394 | L13: 0.04445212 | M13: 0.045011254 | N13: 0.044025796 | P13: 0.068278036 | Q13: 0.05121729 | R13: 0.04006594 | S13: 0.046965617 | T13: 0.04830094 | U13: 0.046786704 | V13: 0.045321099 | X13: 0.046451656 | Y13: 0.0445678
B14: Credit cost to Average Total Assets | C14: 0.00041784732 | D14: 0.0045164711 | E14: 0.0036471376 | F14: 0.0044945755 | G14: 0.0031172504 | H14: 0.0038946939 | I14: 0.0044430291 | J14: 0.0048976221 | K14: 0.0051101814 | L14: 0.0016590171 | M14: 0.0051430534 | N14: 0.0045458234 | P14: 0.0028851852 | Q14: 0.0074882915 | R14: 0.0093361275 | S14: 0.0042265792 | T14: 0.0037429857 | U14: 0.0038010505 | V14: 0.0039035454 | X14: 0.0046661873 | Y14: 0.0048435521
B15: PBT to Average Total Assets | C15: 0.054310853 | D15: 0.065921868 | E15: 0.054264651 | F15: 0.065477763 | G15: 0.061443824 | H15: 0.068720541 | I15: 0.072281712 | J15: 0.073413087 | K15: 0.07174697 | L15: 0.074379717 | M15: 0.077941017 | N15: 0.075422197 | P15: 0.036355732 | Q15: 0.040742792 | R15: 0.053010603 | S15: 0.058728057 | T15: 0.053733235 | U15: 0.063268555 | V15: 0.072249368 | X15: 0.072685979 | Y15: 0.076756007
B16: ROA (PAT to Average Total Assets) | C16: 0.041623163 | D16: 0.051254304 | E16: 0.041941353 | F16: 0.050961092 | G16: 0.047176747 | H16: 0.05373263 | I16: 0.055869354 | J16: 0.056443874 | K16: 0.055462108 | L16: 0.057612493 | M16: 0.059971432 | N16: 0.058230921 | P16: 0.026866614 | Q16: 0.02993949 | R16: 0.041011299 | S16: 0.045197107 | T16: 0.041331657 | U16: 0.049078889 | V16: 0.055808893 | X16: 0.05602734 | Y16: 0.05916108
B17: Leverage (Average Total Assets to Average Net Worth) | C17: 3.3256021 | D17: 3.4154829 | E17: 3.5567583 | F17: 3.5510945 | G17: 2.9485226 | H17: 2.5740263 | I17: 2.5526729 | J17: 2.6185312 | K17: 2.7280258 | L17: 2.831138 | M17: 2.873512 | N17: 2.9151262 | P17: 1.6543973 | Q17: 1.9017413 | R17: 2.3867292 | S17: 2.8230215 | T17: 3.2446838 | U17: 2.8508682 | V17: 2.7043336 | X17: 2.5890139 | Y17: 2.9032391
B18: ROE (PAT to Average Net Worth) | C18: 0.13842208 | D18: 0.1750582 | E18: 0.14917526 | F18: 0.18096765 | G18: 0.1391017 | H18: 0.1383092 | I18: 0.14261618 | J18: 0.14780005 | K18: 0.15130206 | L18: 0.16310892 | M18: 0.17232863 | N18: 0.16975048 | P18: 0.044448056 | Q18: 0.056937165 | R18: 0.097882864 | S18: 0.12759241 | T18: 0.13410816 | U18: 0.13991744 | V18: 0.15092587 | X18: 0.14505556 | Y18: 0.17175876
B19: Ratios
B20: Leverage (Closing) | C20: 3.3660193 | D20: 3.4627129 | E20: 3.6473947 | F20: 3.4609422 | G20: 2.6295501 | H20: 2.5206721 | I20: 2.5834863 | J20: 2.65214 | K20: 2.8007529 | L20: 2.860191 | M20: 2.8862334 | N20: 2.9432376 | P20: 1.6693906 | Q20: 2.1207424 | R20: 2.6274627 | S20: 2.9933464 | T20: 3.4627129 | U20: 2.5206721 | V20: 2.860191 | X20: 2.8008081 | Y20: 2.8601909
B21: Cost to Income | C21: 0.46255693 | D21: 0.40088652 | E21: 0.45818597 | F21: 0.40668735 | G21: 0.41083042 | H21: 0.38112468 | I21: 0.37812248 | J21: 0.3725004 | K21: 0.37371711 | L21: 0.36892526 | M21: 0.35138874 | N21: 0.35506445 | P21: 0.63503256 | Q21: 0.51501385 | R21: 0.39122054 | S21: 0.42726991 | T21: 0.4566292 | U21: 0.41092763 | V21: 0.37309296 | X21: 0.37520373 | Y21: 0.3532435
B22: Operating expenses / AUM | C22: 0.048152523 | D22: 0.046960751 | E22: 0.048285821 | F22: 0.045616799 | G22: 0.044087317 | H22: 0.044370647 | I22: 0.044308589 | J22: 0.043805772 | K22: 0.043389671 | L22: 0.04222208 | M22: 0.042434443 | N22: 0.041091901 | P22: 0.07803745 | Q22: 0.059493128 | R22: 0.045920322 | S22: 0.050636414 | T22: 0.048847382 | U22: 0.045202165 | V22: 0.042998154 | X22: 0.043871828 | Y22: 0.041723681
B23: CRAR (%) | C23: 0.4659 | D23: 0.5266 | E23: 0.4722 | F23: 0.4867 | G23: 0.7226 | H23: 0.7091 | I23: 0.667 | J23: 0.65893219 | K23: 0.60560449 | L23: 0.60552388 | M23: 0.58413376 | N23: 0.57107656 | P23: 0.9116 | Q23: 0.8112 | R23: 0.71509708 | S23: 0.5587 | T23: 0.5266 | U23: 0.7091 | V23: 0.60552388 | X23: 0.7091 | Y23: 0.57107656
B24: Book Value Per Share | C24: 135.32745 | D24: 141.72711 | E24: 146.84438 | F24: 152.69596 | G24: 206.33517 | H24: 214.72595 | I24: 222.62385 | J24: 231.7059 | K24: 240.87119 | L24: 251.05222 | M24: 262.79195 | N24: 269.04354 | P24: 96.18 | Q24: 99.028691 | R24: 109.03958 | S24: 123.10793 | T24: 141.72711 | U24: 214.72595 | V24: 251.05222 | X24: 231.7059 | Y24: 269.04354
B26: Avg Total Assets | C26: 3868.5413 | D26: 4141.34 | E26: 4495.2345 | F26: 4726.7782 | G26: 5283.4686 | H26: 5801.146 | I26: 5980.3634 | J26: 6383.3087 | K26: 6933.8511 | L26: 7507.3822 | M26: 7967.0491 | N26: 8383.4655 | P26: 1131.1021 | Q26: 1566.8728 | R26: 2130.8159 | S26: 2841.931 | T26: 3758.4061 | U26: 5044.8117 | V26: 6770.8412 | X26: 6197.131 | Y26: 8163.9167
B27: Avg Net Worth | C27: 1163.2604 | D27: 1212.5196 | E27: 1263.8572 | F27: 1331.0764 | G27: 1791.9037 | H27: 2254 | I27: 2342.7397 | J27: 2437.744 | K27: 2541.896 | L27: 2651.719 | M27: 2772.5825 | N27: 2875.8499 | P27: 567.84284 | Q27: 799.54582 | R27: 848.28372 | S27: 937.26942 | T27: 1076.1272 | U27: 1769.5757 | V27: 2503.7882 | X27: 2393.626 | Y27: 2812.0028
B28: Avg AUM | C28: 3784.2173 | D28: 4156.4957 | E28: 4559.2275 | F28: 4969.8567 | G28: 5395.0874 | H28: 5847 | I28: 6296.5475 | J28: 6774.0586 | K28: 7328.8134 | L28: 7903.899 | M28: 8450.8443 | N28: 8982.0314 | P28: 989.64573 | Q28: 1348.9117 | R28: 1859.1582 | S28: 2635.9102 | T28: 3716.3619 | U28: 5221.7326 | V28: 7136.6312 | X28: 6561.5456 | Y28: 8720.4149
B29: Avg Borrowing | C29: 2589.9486 | D29: 2813.8445 | E29: 3139.1189 | F29: 3288.6434 | G29: 3383.1048 | H29: 3445 | I29: 3533.9416 | J29: 3832.4842 | K29: 4262.9596 | L29: 4743.4983 | M29: 5077.8831 | N29: 5341.0974 | P29: 429.37893 | Q29: 717.57843 | R29: 1201.3315 | S29: 1770.0569 | T29: 2516.4118 | U29: 3184.6589 | V29: 4174.9709 | X29: 3694.4322 | Y29: 5217.2665
B31: Tax to Assets

Sheet Liabilities
A1: Index
C3: Q3FY23 | D3: Q4FY23 | E3: Q1FY24 | F3: Q2FY24 | G3: Q3FY24 | H3: Q4FY24 | I3: Q1FY25 | J3: Q2FY25 | K3: Q3FY25 | L3: Q4FY25 | M3: Q1FY26 | N3: Q2FY26 | P3: FY19 | Q3: FY20 | R3: FY21 | S3: FY22 | T3: FY23 | U3: FY24 | V3: FY25
B4: Funding Profile (as at period end)
B5: Banks & FI | C5: 1881.1348 | D5: 2058.3654 | E5: 2178.8624 | F5: 2259.1337 | G5: 2404.0662 | H5: 2414.2277 | I5: 2473.99 | J5: 2847.2106 | K5: 3086.0419 | L5: 3322.2712 | M5: 3547.2993 | N5: 3755.6752 | P5: 182.76 | Q5: 477.93 | R5: 835.74582 | S5: 1494.9511 | T5: 2058.3654 | U5: 2414.2277 | V5: 3322.2712
B6: NHB | C6: 428.1801 | D6: 578.438 | E6: 644.31504 | F6: 576.95842 | G6: 713.49622 | H6: 639.3424 | I6: 844.1274 | J6: 792.74734 | K6: 745.48878 | L6: 900.13106 | M6: 946.6495 | N6: 993.96954 | P6: 155.39 | Q6: 150.44 | R6: 546.72641 | S6: 344.049 | T6: 578.438 | U6: 639.3424 | V6: 900.13106
B7: NCD | C7: 165 | D7: 165 | E7: 142.5 | F7: 107.5 | G7: 50 | H7: 30 | I7: 30 | J7: 30 | K7: 30 | L7: 50 | M7: 46.875 | N7: 43.75 | P7: 142.86 | Q7: 228.57 | R7: 65 | S7: 180 | T7: 165 | U7: 30 | V7: 50
B8: ECB | C8: 79.81 | D8: 79.81 | E8: 243.51 | F8: 243.51 | G8: 243.51 | H8: 243.51 | I8: 243.51 | J8: 243.51 | K8: 243.51 | L8: 243.51 | M8: 243.51 | N8: 239.60678 | P8: 0 | Q8: 0 | R8: 0 | S8: 0 | T8: 79.81 | U8: 243.51 | V8: 243.51
B9: PTC | C9: 97.032081 | D9: 88.055482 | E9: 82.703359 | F9: 77.906854 | G9: 75.100708 | H9: 70.960677 | I9: 67.5 | J9: 63.205541 | K9: 408.15369 | L9: 388.21328 | M9: 369.88572 | N9: 426.41727 | P9: 30 | Q9: 53.73 | R9: 57.392923 | S9: 18.763599 | T9: 88.055482 | U9: 70.960677 | V9: 388.21328
B10: DA (of balance sheet) | C10: 528.32887 | D10: 692.73539 | E10: 764.37073 | F10: 847.58514 | G10: 910.39698 | H10: 948.50369 | I10: 1025.0678 | J10: 1095.2376 | K10: 1172.8989 | L10: 1226.4028 | M10: 1395.5008 | N10: 1501.1852 | P10: 0 | Q10: 0 | R10: 158.27045 | S10: 382.24784 | T10: 692.73539 | U10: 948.50369 | V10: 1226.4028
B11: Total Borrowings | C11: =SUM(C5:C10) -> 3179.4858 | D11: =SUM(D5:D10) -> 3662.4043 | E11: =SUM(E5:E10) -> 4056.2615 | F11: =SUM(F5:F10) -> 4112.5941 | G11: =SUM(G5:G10) -> 4396.5701 | H11: =SUM(H5:H10) -> 4346.5444 | I11: =SUM(I5:I10) -> 4684.1952 | J11: =SUM(J5:J10) -> 5071.9111 | ... N11: =SUM(N5:N10) -> 6960.604 | P11: =SUM(P5:P10) -> 511.01 | Q11: =SUM(Q5:Q10) -> 910.67 | R11: 1663.1356 | S11: =SUM(S5:S10) -> 2420.0116 | T11: 3662.4043 | U11: =SUM(U5:U10) -> 4346.5444 | V11: =SUM(V5:V10) -> 6130.5284
B12: Funding Profile (%) (as at period end)
B13: Banks & FI | C13: 0.59164748 | D13: 0.56202572 | E13: 0.53716023 | F13: 0.54932085 | G13: 0.54680492 | H13: 0.5554361 | I13: 0.52815689 | J13: =J5/$J$11 -> 0.5613684 | K13: =K5/$K$11 -> 0.54273501 | L13: =L5/$L$11 -> 0.54192249 | M13: =M5/$M$11 -> 0.54159554 | N13: =N5/$N$11 -> 0.53956169 | P13: 0.35764466 | Q13: 0.5248114 | R13: 0.50251213 | S13: 0.61774545 | T13: 0.56202572 | U13: 0.5554361 | V13: =V5/$L$11 -> 0.54192249
B14: NHB | C14: 0.1346696 | D14: 0.15793942 | E14: 0.15884455 | F14: 0.14029063 | G14: 0.16228474 | H14: 0.14709211 | I14: 0.18020756 | J14: =J6/$J$11 -> 0.15630151 | K14: =K6/$K$11 -> 0.13110738 | L14: =L6/$L$11 -> 0.14682765 | M14: =M6/$M$11 -> 0.14453281 | N14: =N6/$N$11 -> 0.14279932 | P14: 0.30408407 | Q14: 0.16519705 | R14: 0.32873231 | S14: 0.14216833 | T14: 0.15793942 | U14: 0.14709211 | V14: =V6/$L$11 -> 0.14682765
B15: NCD | C15: 0.051895183 | D15: 0.045052372 | E15: 0.035130871 | F15: 0.026139219 | G15: 0.011372502 | H15: 0.0069020346 | I15: 0.0064045153 | J15: =J7/$J$11 -> 0.0059149302 | K15: =K7/$K$11 -> 0.0052760302 | L15: =L7/$L$11 -> 0.0081559038 | M15: =M7/$M$11 -> 0.0071567941 | N15: =N7/$N$11 -> 0.0062853741 | P15: 0.279564 | Q15: 0.25099103 | R15: 0.039082803 | S15: 0.07437981 | T15: 0.045052372 | U15: 0.0069020346 | V15: =V7/$L$11 -> 0.0081559038
B16: ECB | C16: 0.025101543 | D16: 0.021791696 | E16: 0.060033112 | F16: 0.059210803 | G16: 0.055386357 | H16: 0.056023815 | I16: 0.051985451 | J16: =J8/$J$11 -> 0.048011488 | K16: =K8/$K$11 -> 0.042825537 | L16: =L8/$L$11 -> 0.039720883 | M16: =M8/$M$11 -> 0.037178687 | N16: =N8/$N$11 -> 0.034423274 | P16: 0 | Q16: 0 | R16: 0 | S16: 0 | T16: 0.021791696 | U16: 0.056023815 | V16: =V8/$L$11 -> 0.039720883
B17: PTC | C17: 0.030518167 | D17: 0.024043081 | E17: 0.02038906 | F17: 0.018943482 | G17: 0.017081658 | H17: 0.016325768 | I17: 0.01441016 | J17: =J9/$J$11 -> 0.012461879 | K17: =K9/$K$11 -> 0.071781041 | L17: =L9/$L$11 -> 0.063324604 | M17: =M9/$M$11 -> 0.056473514 | N17: =N9/$N$11 -> 0.061261532 | P17: 0.058707266 | Q17: 0.059000516 | R17: 0.034508866 | S17: 0.0077535162 | T17: 0.024043081 | U17: 0.016325768 | V17: =V9/$L$11 -> 0.063324604
B18: DA (of balance sheet) | C18: 0.16616802 | D18: 0.18914771 | E18: 0.18844217 | F18: 0.20609501 | G18: 0.20706982 | H18: 0.21822018 | I18: 0.21883542 | J18: =J10/$J$11 -> 0.2159418 | K18: =K10/$K$11 -> 0.20627501 | L18: =L10/$L$11 -> 0.20004847 | M18: =M10/$M$11 -> 0.21306265 | N18: =N10/$N$11 -> 0.21566881 | P18: 0 | Q18: 0 | R18: 0.095163886 | S18: 0.1579529 | T18: 0.18914771 | U18: 0.21822018 | V18: =V10/$L$11 -> 0.20004847
B19: Total Borrowings | C19: 1 | D19: 1 | E19: 1 | F19: 1 | G19: 1 | H19: 1 | I19: 1 | J19: =J11/$J$11 -> 1 | K19: =K11/$K$11 -> 1 | L19: =L11/$L$11 -> 1 | M19: =M11/$M$11 -> 1 | N19: =N11/$N$11 -> 1 | P19: =P11/$P$11 -> 1 | Q19: =Q11/$Q$11 -> 1 | R19: =R11/$R$11 -> 1 | S19: =S11/$S$11 -> 1 | T19: =T11/$T$11 -> 1 | U19: =U11/$U$11 -> 1 | V19: =V11/$L$11 -> 1
B20: Long Term Credit Rating (Standalone)
B21: CARE | C21: A+ (Stable) | D21: A+ (Stable) | E21: A+ (Stable) | F21: A+ (Positive) | G21: A+ (Positive) | H21: A+ (Positive) | I21: AA- (Stable) | J21: AA- (Stable) | K21: AA- (Stable) | L21: AA- (Stable) | M21: AA- (Stable) | N21: AA- (Stable) | P21: A (Stable) | Q21: A (Stable) | R21: A (Stable) | S21: A (Positive) | T21: A+ (Stable) | U21: A+ (Positive) | V21: AA- (Stable)
B22: ICRA | C22: A+ (Stable) | D22: A+ (Stable) | E22: A+ (Stable) | F22: A+ (Stable) | G22: A+ (Stable) | H22: A+ (Positive) | I22: A+ (Positive) | J22: AA- (Stable) | K22: AA- (Stable) | L22: AA- (Stable) | M22: AA- (Stable) | N22: AA- (Stable) | P22: A (Stable) | Q22: A (Stable) | R22: A (Stable) | S22: A (Stable) | T22: A+ (Stable) | U22: A+ (Positive) | V22: AA- (Stable)
B23: India Ratings and Research | C23: - | D23: - | E23: - | F23: - | G23: - | H23: AA- (Stable) | I23: AA- (Stable) | J23: AA- (Stable) | K23: AA- (Stable) | L23: AA- (Stable) | M23: AA- (Stable) | N23: AA- (Stable) | P23: - | Q23: - | R23: - | S23: - | T23: - | U23: AA- (Stable) | V23: AA- (Stable)
